BEGIN:VCALENDAR
VERSION:2.0
PRODID:-//ChamberMaster//Event Calendar 2.0//EN
METHOD:PUBLISH
X-PUBLISHED-TTL:P3D
REFRESH-INTERVAL:P3D
CALSCALE:GREGORIAN
BEGIN:VEVENT
DTSTART:20260528T220000Z
DTEND:20260528T233000Z
X-MICROSOFT-CDO-ALLDAYEVENT:FALSE
SUMMARY:Business After Hours - Forward Bank
DESCRIPTION:Join us for Business After Hours and enjoy a relaxed evening of networking\, conversation\, and community connections.\n\nHosted by Forward Bank\, Business After Hours is a great opportunity to connect with fellow members\, meet new faces\, and catch up in a casual\, after-work setting.\n\nWhether you're looking to build new relationships\, strengthen existing ones\, or simply unwind after the workday\, we'd love to see you there.
X-ALT-DESC;FMTTYPE=text/html:<p data-end="244" data-start="128" style="box-sizing: border-box\; border: 0px\; font-size: 14px\; margin: 0px 0px 1rem\; outline: 0px\; padding: 0px\; vertical-align: baseline\; color: rgb(68\, 68\, 68)\; font-family: &quot\;Open Sans&quot\;\, Helvetica\, sans-serif\; background-color: rgb(255\, 255\, 255)\;">Join us for Business After Hours and enjoy a relaxed evening of networking\, conversation\, and community connections.</p>\n\n<p data-end="428" data-start="246" style="box-sizing: border-box\; border: 0px\; font-size: 14px\; margin: 0px 0px 1rem\; outline: 0px\; padding: 0px\; vertical-align: baseline\; color: rgb(68\, 68\, 68)\; font-family: &quot\;Open Sans&quot\;\, Helvetica\, sans-serif\; background-color: rgb(255\, 255\, 255)\;">Hosted by Forward Bank\, Business After Hours is a great opportunity to connect with fellow members\, meet new faces\, and catch up in a casual\, after-work setting.</p>\n\n<p data-end="570" data-start="430" style="box-sizing: border-box\; border: 0px\; font-size: 14px\; margin: 0px 0px 1rem\; outline: 0px\; padding: 0px\; vertical-align: baseline\; color: rgb(68\, 68\, 68)\; font-family: &quot\;Open Sans&quot\;\, Helvetica\, sans-serif\; background-color: rgb(255\, 255\, 255)\;">Whether you&rsquo\;re looking to build new relationships\, strengthen existing ones\, or simply unwind after the workday\, we&rsquo\;d love to see you there.</p>\n
LOCATION:Forward Bank 219 S Washington Lake City\, MN 55041
UID:e.621.10234
SEQUENCE:3
DTSTAMP:20260420T111516Z
URL:https://dev.lakecity.org.esdgraphics.com/events/details/business-after-hours-forward-bank-10234
END:VEVENT

END:VCALENDAR
